BEGIN:VCALENDAR
VERSION:2.0
PRODID:-//Bathurst ELC - ECPv4.6.20.1//NONSGML v1.0//EN
CALSCALE:GREGORIAN
METHOD:PUBLISH
X-WR-CALNAME:Bathurst ELC
X-ORIGINAL-URL:https://bathurstelc.com.au
X-WR-CALDESC:Events for Bathurst ELC
BEGIN:VEVENT
DTSTART;VALUE=DATE:20190214
DTEND;VALUE=DATE:20190215
DTSTAMP:20190301T162453
CREATED:20190110T062229Z
LAST-MODIFIED:20190110T062229Z
UID:893-1550102400-1550188799@bathurstelc.com.au
SUMMARY:Valentine's Day
DESCRIPTION:Celebrate by making a card for a loved one and don’t forget to wear red to school. \n
URL:https://bathurstelc.com.au/event/valentines-day/
END:VEVENT
END:VCALENDAR