BEGIN:VCALENDAR
VERSION:2.0
PRODID:-//Bathurst ELC - ECPv4.6.20.1//NONSGML v1.0//EN
CALSCALE:GREGORIAN
METHOD:PUBLISH
X-WR-CALNAME:Bathurst ELC
X-ORIGINAL-URL:https://bathurstelc.com.au
X-WR-CALDESC:Events for Bathurst ELC
BEGIN:VEVENT
DTSTART;VALUE=DATE:20190118
DTEND;VALUE=DATE:20190119
DTSTAMP:20190301T165130
CREATED:20190110T060909Z
LAST-MODIFIED:20190110T060909Z
UID:884-1547769600-1547855999@bathurstelc.com.au
SUMMARY:Popcorn Day
DESCRIPTION:Celebrate Popcorn Day by creating some wonderful popcorn art and craft and by enjoying some delicious popcorn for afternoon tea \n
URL:https://bathurstelc.com.au/event/popcorn-day/
END:VEVENT
END:VCALENDAR