BEGIN:VCALENDAR
VERSION:2.0
PRODID:-//Bathurst ELC - ECPv4.6.20.1//NONSGML v1.0//EN
CALSCALE:GREGORIAN
METHOD:PUBLISH
X-WR-CALNAME:Bathurst ELC
X-ORIGINAL-URL:https://bathurstelc.com.au
X-WR-CALDESC:Events for Bathurst ELC
BEGIN:VEVENT
DTSTART;VALUE=DATE:20190220
DTEND;VALUE=DATE:20190221
DTSTAMP:20190301T162524
CREATED:20190110T062602Z
LAST-MODIFIED:20190110T062602Z
UID:896-1550620800-1550707199@bathurstelc.com.au
SUMMARY:Love Your Pet Day
DESCRIPTION:Bring a photo in of your pet \n \n
URL:https://bathurstelc.com.au/event/love-your-pet-day/
END:VEVENT
END:VCALENDAR