BEGIN:VCALENDAR
VERSION:2.0
PRODID:-//Bathurst ELC - ECPv4.6.20.1//NONSGML v1.0//EN
CALSCALE:GREGORIAN
METHOD:PUBLISH
X-WR-CALNAME:Bathurst ELC
X-ORIGINAL-URL:https://bathurstelc.com.au
X-WR-CALDESC:Events for Bathurst ELC
BEGIN:VEVENT
DTSTART;VALUE=DATE:20181204
DTEND;VALUE=DATE:20181205
DTSTAMP:20190301T170342
CREATED:20171128T035926Z
LAST-MODIFIED:20180420T031202Z
UID:525-1543881600-1543967999@bathurstelc.com.au
SUMMARY:Hawaiian Day
DESCRIPTION:Wear Hawaiian themed clothes to school \n
URL:https://bathurstelc.com.au/event/hawaiian-day/
END:VEVENT
END:VCALENDAR