BEGIN:VCALENDAR
VERSION:2.0
PRODID:-//Bathurst ELC - ECPv4.6.20.1//NONSGML v1.0//EN
CALSCALE:GREGORIAN
METHOD:PUBLISH
X-WR-CALNAME:Bathurst ELC
X-ORIGINAL-URL:https://bathurstelc.com.au
X-WR-CALDESC:Events for Bathurst ELC
BEGIN:VEVENT
DTSTART;VALUE=DATE:20190321
DTEND;VALUE=DATE:20190322
DTSTAMP:20190301T163104
CREATED:20190111T043240Z
LAST-MODIFIED:20190111T043240Z
UID:909-1553126400-1553212799@bathurstelc.com.au
SUMMARY:Harmony Day
DESCRIPTION:Wear orange to school \n
URL:https://bathurstelc.com.au/event/harmony-day/
END:VEVENT
END:VCALENDAR