BEGIN:VCALENDAR
VERSION:2.0
PRODID:-//Bathurst ELC - ECPv4.6.20.1//NONSGML v1.0//EN
CALSCALE:GREGORIAN
METHOD:PUBLISH
X-WR-CALNAME:Bathurst ELC
X-ORIGINAL-URL:https://bathurstelc.com.au
X-WR-CALDESC:Events for Bathurst ELC
BEGIN:VEVENT
DTSTART;TZID=Australia/Sydney:20190418T140000
DTEND;TZID=Australia/Sydney:20190418T143000
DTSTAMP:20190301T163639
CREATED:20190117T055140Z
LAST-MODIFIED:20190117T055140Z
UID:926-1555596000-1555597800@bathurstelc.com.au
SUMMARY:Easter Hat Parade
DESCRIPTION:Children will be taking part in our annual Easter Hat Parade showing off hats they have created at school \n \n
URL:https://bathurstelc.com.au/event/easter-hat-parade/
END:VEVENT
END:VCALENDAR