BEGIN:VCALENDAR
VERSION:2.0
PRODID:-//Bathurst ELC - ECPv4.6.20.1//NONSGML v1.0//EN
CALSCALE:GREGORIAN
METHOD:PUBLISH
X-WR-CALNAME:Bathurst ELC
X-ORIGINAL-URL:https://bathurstelc.com.au
X-WR-CALDESC:Events for Bathurst ELC
BEGIN:VEVENT
DTSTART;VALUE=DATE:20190125
DTEND;VALUE=DATE:20190126
DTSTAMP:20190301T165202
CREATED:20190110T061037Z
LAST-MODIFIED:20190110T061037Z
UID:886-1548374400-1548460799@bathurstelc.com.au
SUMMARY:Australia Day
DESCRIPTION:Celebrated January 25th as Australia Day falls on a Saturday. \nWear Australia colours and enjoy a sausage sizzle \n
URL:https://bathurstelc.com.au/event/australia-day/
END:VEVENT
END:VCALENDAR