BEGIN:VCALENDAR
VERSION:2.0
PRODID:-//Bathurst ELC - ECPv4.6.20.1//NONSGML v1.0//EN
CALSCALE:GREGORIAN
METHOD:PUBLISH
X-WR-CALNAME:Bathurst ELC
X-ORIGINAL-URL:https://bathurstelc.com.au
X-WR-CALDESC:Events for Bathurst ELC
BEGIN:VEVENT
DTSTART;VALUE=DATE:20190401
DTEND;VALUE=DATE:20190402
DTSTAMP:20190301T163339
CREATED:20190117T054518Z
LAST-MODIFIED:20190117T054518Z
UID:921-1554076800-1554163199@bathurstelc.com.au
SUMMARY:April Fool's Day
DESCRIPTION:Play a joke on a friend (but make it a nice one) \n
URL:https://bathurstelc.com.au/event/april-fools-day/
END:VEVENT
END:VCALENDAR